View In:
ArcGIS JavaScript
ArcGIS Online Map Viewer
ArcGIS Earth
ArcMap
View Footprint In:
ArcGIS Online Map Viewer
Service Description: Ayres Associates provided Jefferson County, Wisconsin, with digital, 4-band orthoimagery services in 2025 as part of WROC. The aerial imagery was collected on March 10th, 31st, and April 6th using a Leica Geosystems DMC III sensor at 7.25 cm GSD mounted in a fixed-wing aircraft. Aerial imagery was collected to support 0.25 foot ground sample distance (GSD) orthoimagery at 1"=50' map scale. The 3-inch pixel orthoimagery was produced to meet or exceed 0.66 foot RMSEH according to ASPRS Positional Accuracy Standards for Digital Geospatial Data 2024. Resultant orthoimagery was rectified to a DEM created from lidar previously collected in 2019. Orthoimagery was delivered in GeoTiff and MrSID tiles and a project-wide MrSID mosaic. The orthoimagery was delivered according to a PLSS quarter section tile schematic. The project area covers approximately 582 square miles. Supplemental Information: The Wisconsin Regional Orthoimagery Consortium (WROC) is a multi-entity group of county members and partners led by regional planning commissions (RPCs) and WROC representatives from Ayres Associates. The goal of the consortium is to build and sustain a multi-participant program to acquire digital orthoimagery and elevation data throughout Wisconsin. Orthoimagery was collected for Jefferson County in 2025 to provide consistent deliverable products and accuracy standards for each of the participating entities.
Name: Imagery/Jefferson_Co_2025_sid
Description: Ayres Associates provided Jefferson County, Wisconsin, with digital, 4-band orthoimagery services in 2025 as part of WROC. The aerial imagery was collected on March 10th, 31st, and April 6th using a Leica Geosystems DMC III sensor at 7.25 cm GSD mounted in a fixed-wing aircraft. Aerial imagery was collected to support 0.25 foot ground sample distance (GSD) orthoimagery at 1"=50' map scale. The 3-inch pixel orthoimagery was produced to meet or exceed 0.66 foot RMSEH according to ASPRS Positional Accuracy Standards for Digital Geospatial Data 2024. Resultant orthoimagery was rectified to a DEM created from lidar previously collected in 2019. Orthoimagery was delivered in GeoTiff and MrSID tiles and a project-wide MrSID mosaic. The orthoimagery was delivered according to a PLSS quarter section tile schematic. The project area covers approximately 582 square miles. Supplemental Information: The Wisconsin Regional Orthoimagery Consortium (WROC) is a multi-entity group of county members and partners led by regional planning commissions (RPCs) and WROC representatives from Ayres Associates. The goal of the consortium is to build and sustain a multi-participant program to acquire digital orthoimagery and elevation data throughout Wisconsin. Orthoimagery was collected for Jefferson County in 2025 to provide consistent deliverable products and accuracy standards for each of the participating entities.
Single Fused Map Cache: false
Extent:
XMin: 2231735.049
YMin: 309043.987
XMax: 2360165.299
YMax: 439980.237
Spatial Reference: 103191
(6609)
LatestVCSWkid(0)
Initial Extent:
XMin: 2231735.049
YMin: 309043.987
XMax: 2360165.299
YMax: 439980.237
Spatial Reference: 103191
(6609)
LatestVCSWkid(0)
Full Extent:
XMin: 2231735.049
YMin: 309043.987
XMax: 2360165.299
YMax: 439980.237
Spatial Reference: 103191
(6609)
LatestVCSWkid(0)
Pixel Size X: 0.25
Pixel Size Y: 0.25
Band Count: 5
Pixel Type: U8
RasterFunction Infos: {"rasterFunctionInfos": [{
"name": "None",
"description": "",
"help": ""
}]}
Mensuration Capabilities: Basic
Has Histograms: true
Has Colormap: false
Has Multi Dimensions : false
Rendering Rule:
Min Scale: 0
Max Scale: 0
Copyright Text:
Service Data Type: esriImageServiceDataTypeGeneric
Min Values: 0, 0, 0, 0, 0
Max Values: 196, 187, 174, 211, 255
Mean Values: 120.16567460317, 111.97172619048, 102.63120039683, 132.16393849206, 248.49479166667
Standard Deviation Values: 30.191893430356, 26.761794503287, 22.474194830544, 35.428788670108, 33.729262774595
Object ID Field:
Fields:
None
Default Mosaic Method: Center
Allowed Mosaic Methods:
SortField:
SortValue: null
Mosaic Operator: First
Default Compression Quality: 75
Default Resampling Method: Bilinear
Max Record Count: null
Max Image Height: 4100
Max Image Width: 15000
Max Download Image Count: null
Max Mosaic Image Count: null
Allow Raster Function: true
Allow Copy: true
Allow Analysis: true
Allow Compute TiePoints: false
Supports Statistics: false
Supports Advanced Queries: false
Use StandardizedQueries: true
Raster Type Infos:
Name: Raster Dataset
Description: Supports all ArcGIS Raster Datasets
Help:
Has Raster Attribute Table: false
Edit Fields Info: null
Ownership Based AccessControl For Rasters: null
Child Resources:
Info
Histograms
Statistics
Key Properties
Legend
Raster Function Infos
Supported Operations:
Export Image
Identify
Measure
Compute Histograms
Compute Statistics Histograms
Get Samples
Compute Class Statistics
Query Boundary
Compute Pixel Location
Compute Angles
Validate
Project