<?xml version="1.0" encoding="UTF-8" standalone="no"?>
<metadata xml:lang="en">
<Esri>
<CreaDate>20250613</CreaDate>
<CreaTime>10415300</CreaTime>
<ArcGISFormat>1.0</ArcGISFormat>
<ArcGISstyle>FGDC CSDGM Metadata</ArcGISstyle>
<SyncOnce>FALSE</SyncOnce>
<DataProperties>
<itemProps>
<itemName Sync="TRUE">Jefferson_Co_2025.sid</itemName>
<imsContentType Sync="TRUE" export="False">002</imsContentType>
<nativeExtBox>
<westBL Sync="TRUE">2231735.049000</westBL>
<eastBL Sync="TRUE">2360165.299000</eastBL>
<southBL Sync="TRUE">309043.987000</southBL>
<northBL Sync="TRUE">439980.237000</northBL>
<exTypeCode Sync="TRUE">1</exTypeCode>
</nativeExtBox>
</itemProps>
<coordRef>
<type Sync="TRUE">Projected</type>
<geogcsn Sync="TRUE">GCS_NAD83_2011</geogcsn>
<csUnits Sync="TRUE">Linear Unit: Foot_US (0.304801)</csUnits>
<projcsn Sync="TRUE">NAD_1983_2011_StatePlane_Wisconsin_South_FIPS_4803_Ft_US</projcsn>
<peXml Sync="TRUE">&lt;ProjectedCoordinateSystem xsi:type='typens:ProjectedCoordinateSystem' xmlns:xsi='http://www.w3.org/2001/XMLSchema-instance' xmlns:xs='http://www.w3.org/2001/XMLSchema' xmlns:typens='http://www.esri.com/schemas/ArcGIS/10.8'&gt;&lt;WKT&gt;PROJCS[&amp;quot;NAD_1983_2011_StatePlane_Wisconsin_South_FIPS_4803_Ft_US&amp;quot;,GEOGCS[&amp;quot;GCS_NAD83_2011&amp;quot;,DATUM[&amp;quot;D_NAD83_National_Spatial_Reference_System_2011&amp;quot;,SPHEROID[&amp;quot;GRS_1980&amp;quot;,6378137.0,298.257222101]],PRIMEM[&amp;quot;Greenwich&amp;quot;,0.0],UNIT[&amp;quot;Degree&amp;quot;,0.0174532925199433]],PROJECTION[&amp;quot;Lambert_Conformal_Conic&amp;quot;],PARAMETER[&amp;quot;false_easting&amp;quot;,1968500.0],PARAMETER[&amp;quot;false_northing&amp;quot;,0.0],PARAMETER[&amp;quot;central_meridian&amp;quot;,-90.0],PARAMETER[&amp;quot;standard_parallel_1&amp;quot;,42.73333333333333],PARAMETER[&amp;quot;standard_parallel_2&amp;quot;,44.06666666666667],PARAMETER[&amp;quot;latitude_of_origin&amp;quot;,42.0],UNIT[&amp;quot;Foot_US&amp;quot;,0.3048006096012192]]&lt;/WKT&gt;&lt;XOrigin&gt;-118121300&lt;/XOrigin&gt;&lt;YOrigin&gt;-97418300&lt;/YOrigin&gt;&lt;XYScale&gt;37501932.948264509&lt;/XYScale&gt;&lt;ZOrigin&gt;-100000&lt;/ZOrigin&gt;&lt;ZScale&gt;10000&lt;/ZScale&gt;&lt;MOrigin&gt;-100000&lt;/MOrigin&gt;&lt;MScale&gt;10000&lt;/MScale&gt;&lt;XYTolerance&gt;0.0032808333333333331&lt;/XYTolerance&gt;&lt;ZTolerance&gt;0.001&lt;/ZTolerance&gt;&lt;MTolerance&gt;0.001&lt;/MTolerance&gt;&lt;HighPrecision&gt;true&lt;/HighPrecision&gt;&lt;/ProjectedCoordinateSystem&gt;</peXml>
</coordRef>
<RasterProperties>
<General>
<PixelDepth Sync="TRUE">8</PixelDepth>
<HasColormap Sync="TRUE">FALSE</HasColormap>
<CompressionType Sync="TRUE">Wavelet (MG4)</CompressionType>
<NumBands Sync="TRUE">5</NumBands>
<Format Sync="TRUE">MrSID</Format>
<HasPyramids Sync="TRUE">TRUE</HasPyramids>
<SourceType Sync="TRUE">continuous</SourceType>
<PixelType Sync="TRUE">unsigned integer</PixelType>
<NoDataValue Sync="TRUE">
</NoDataValue>
</General>
</RasterProperties>
</DataProperties>
<SyncDate>20250625</SyncDate>
<SyncTime>10563600</SyncTime>
<ModDate>20250625</ModDate>
<ModTime>10563600</ModTime>
<scaleRange>
<minScale>150000000</minScale>
<maxScale>5000</maxScale>
</scaleRange>
<ArcGISProfile>FGDC</ArcGISProfile>
</Esri>
<dataIdInfo>
<envirDesc Sync="TRUE"> Version 6.2 (Build 9200) ; Esri ArcGIS 10.8.1.14362</envirDesc>
<dataLang>
<languageCode Sync="TRUE" value="eng">
</languageCode>
<countryCode Sync="TRUE" value="USA">
</countryCode>
</dataLang>
<idCitation>
<resTitle Sync="TRUE">Jefferson_Co_2025_sid</resTitle>
<presForm>
<PresFormCd Sync="TRUE" value="005">
</PresFormCd>
</presForm>
<date>
<createDate>2025-03-10T00:00:00</createDate>
<pubDate>2025-06-13T00:00:00</pubDate>
</date>
<citRespParty>
<rpOrgName>Ayres Associates</rpOrgName>
<role>
<RoleCd value="006">
</RoleCd>
</role>
<rpCntInfo>
<cntAddress addressType="both">
<delPoint>5201 E. Terrace Dr., Suite 200</delPoint>
<city>Madison</city>
<adminArea>Wisconsin</adminArea>
<postCode>53718</postCode>
<country>US</country>
</cntAddress>
<cntPhone>
<voiceNum tddtty="">(608) 443-1200</voiceNum>
<faxNum>(608) 299-2184</faxNum>
</cntPhone>
</rpCntInfo>
</citRespParty>
</idCitation>
<spatRpType>
<SpatRepTypCd Sync="TRUE" value="002">
</SpatRepTypCd>
</spatRpType>
<dataExt>
<geoEle>
<GeoBndBox esriExtentType="search">
<exTypeCode Sync="TRUE">1</exTypeCode>
<westBL Sync="TRUE">-89.018468</westBL>
<eastBL Sync="TRUE">-88.531069</eastBL>
<northBL Sync="TRUE">43.202907</northBL>
<southBL Sync="TRUE">42.838514</southBL>
</GeoBndBox>
</geoEle>
</dataExt>
<idPurp>This project established digital, 4-band orthoimagery for Jefferson County, Wisconsin as part of the Wisconsin Regional Orthoimagery Consortium (WROC).</idPurp>
<idAbs>Ayres Associates provided Jefferson County, Wisconsin, with digital, 4-band orthoimagery services in 2025 as part of WROC. The aerial imagery was collected on March 10th, 31st, and April 6th using a Leica Geosystems DMC III sensor at 7.25 cm GSD mounted in a fixed-wing aircraft. Aerial imagery was collected to support 0.25 foot ground sample distance (GSD) orthoimagery at 1"=50' map scale. The 3-inch pixel orthoimagery was produced to meet or exceed 0.66 foot RMSEH according to ASPRS Positional Accuracy Standards for Digital Geospatial Data 2024. Resultant orthoimagery was rectified to a DEM created from lidar previously collected in 2019. Orthoimagery was delivered in GeoTiff and MrSID tiles and a project-wide MrSID mosaic. The orthoimagery was delivered according to a PLSS quarter section tile schematic. The project area covers approximately 582 square miles. Supplemental Information: The Wisconsin Regional Orthoimagery Consortium (WROC) is a multi-entity group of county members and partners led by regional planning commissions (RPCs) and WROC representatives from Ayres Associates. The goal of the consortium is to build and sustain a multi-participant program to acquire digital orthoimagery and elevation data throughout Wisconsin. Orthoimagery was collected for Jefferson County in 2025 to provide consistent deliverable products and accuracy standards for each of the participating entities.</idAbs>
<searchKeys>
<keyword>digital</keyword>
<keyword>4-band</keyword>
<keyword>orthoimagery</keyword>
<keyword>3-inch</keyword>
</searchKeys>
<resConst>
<Consts>
<useLimit>Not to be used for purposes other than those strictly outlined in the 2025 WROC program.</useLimit>
</Consts>
</resConst>
<themeKeys>
<keyword>Wisconsin Regional Orthoimagery Consortium (WROC)</keyword>
</themeKeys>
<placeKeys>
<keyword>Jefferson County, Wisconsin</keyword>
</placeKeys>
<dataChar>
<CharSetCd value="004">
</CharSetCd>
</dataChar>
<idStatus>
<ProgCd value="001">
</ProgCd>
</idStatus>
<idPoC>
<rpIndName>Matt Zangl</rpIndName>
<rpOrgName>Jefferson County Planning and Zoning Department</rpOrgName>
<rpPosName>Director of Planning and Zoning</rpPosName>
<role>
<RoleCd value="007">
</RoleCd>
</role>
<rpCntInfo>
<cntAddress addressType="">
<adminArea>Wisconsin</adminArea>
<eMailAdd>mattz@jeffersoncountywi.gov</eMailAdd>
<country>US</country>
</cntAddress>
<cntPhone>
<voiceNum tddtty="">(920) 674-8638</voiceNum>
</cntPhone>
</rpCntInfo>
</idPoC>
<resMaint>
<maintFreq>
<MaintFreqCd value="011">
</MaintFreqCd>
</maintFreq>
</resMaint>
<tpCat>
<TopicCatCd value="010">
</TopicCatCd>
</tpCat>
<idCredit/>
</dataIdInfo>
<mdLang>
<languageCode Sync="TRUE" value="eng">
</languageCode>
<countryCode Sync="TRUE" value="USA">
</countryCode>
</mdLang>
<mdChar>
<CharSetCd Sync="TRUE" value="004">
</CharSetCd>
</mdChar>
<distInfo>
<distFormat>
<formatName Sync="TRUE">Raster Dataset</formatName>
</distFormat>
</distInfo>
<mdHrLv>
<ScopeCd Sync="TRUE" value="005">
</ScopeCd>
</mdHrLv>
<mdHrLvName Sync="TRUE">dataset</mdHrLvName>
<refSysInfo>
<RefSystem>
<refSysID>
<identCode Sync="TRUE" code="0">
</identCode>
<idCodeSpace Sync="TRUE">EPSG</idCodeSpace>
<idVersion Sync="TRUE">8.8(10.4.0)</idVersion>
</refSysID>
</RefSystem>
</refSysInfo>
<spatRepInfo>
<Georect>
<cellGeo>
<CellGeoCd Sync="TRUE" value="002">
</CellGeoCd>
</cellGeo>
<numDims Sync="TRUE">2</numDims>
<tranParaAv Sync="TRUE">1</tranParaAv>
<chkPtAv Sync="TRUE">0</chkPtAv>
<cornerPts>
<pos Sync="TRUE">2231735.049000 309043.987000</pos>
</cornerPts>
<cornerPts>
<pos Sync="TRUE">2231735.049000 439980.237000</pos>
</cornerPts>
<cornerPts>
<pos Sync="TRUE">2360165.299000 439980.237000</pos>
</cornerPts>
<cornerPts>
<pos Sync="TRUE">2360165.299000 309043.987000</pos>
</cornerPts>
<centerPt>
<pos Sync="TRUE">2295950.174000 374512.112000</pos>
</centerPt>
<axisDimension type="002">
<dimSize Sync="TRUE">513721</dimSize>
<dimResol>
<value Sync="TRUE" uom="ftUS">0.250000</value>
</dimResol>
</axisDimension>
<axisDimension type="001">
<dimSize Sync="TRUE">523745</dimSize>
<dimResol>
<value Sync="TRUE" uom="ftUS">0.250000</value>
</dimResol>
</axisDimension>
<ptInPixel>
<PixOrientCd Sync="TRUE" value="001">
</PixOrientCd>
</ptInPixel>
</Georect>
</spatRepInfo>
<contInfo>
<ImgDesc>
<contentTyp>
<ContentTypCd Sync="TRUE" value="001">
</ContentTypCd>
</contentTyp>
<covDim>
<Band>
<dimDescrp Sync="TRUE">Band_1</dimDescrp>
<bitsPerVal Sync="TRUE">8</bitsPerVal>
<valUnit>
<UOM gmlID="" type="length">
</UOM>
</valUnit>
<maxVal Sync="TRUE">196.000000</maxVal>
<minVal Sync="TRUE">0.000000</minVal>
</Band>
<Band>
<dimDescrp Sync="TRUE">Band_2</dimDescrp>
<bitsPerVal Sync="TRUE">8</bitsPerVal>
<valUnit>
<UOM gmlID="" type="length">
</UOM>
</valUnit>
<maxVal Sync="TRUE">187.000000</maxVal>
<minVal Sync="TRUE">0.000000</minVal>
</Band>
<Band>
<dimDescrp Sync="TRUE">Band_3</dimDescrp>
<bitsPerVal Sync="TRUE">8</bitsPerVal>
<valUnit>
<UOM gmlID="" type="length">
</UOM>
</valUnit>
<maxVal Sync="TRUE">174.000000</maxVal>
<minVal Sync="TRUE">0.000000</minVal>
</Band>
<Band>
<dimDescrp Sync="TRUE">Band_4</dimDescrp>
<bitsPerVal Sync="TRUE">8</bitsPerVal>
<valUnit>
<UOM gmlID="" type="length">
</UOM>
</valUnit>
<maxVal Sync="TRUE">211.000000</maxVal>
<minVal Sync="TRUE">0.000000</minVal>
</Band>
<Band>
<dimDescrp Sync="TRUE">Band_5</dimDescrp>
<maxVal Sync="TRUE">255.000000</maxVal>
<minVal Sync="TRUE">0.000000</minVal>
<bitsPerVal Sync="TRUE">8</bitsPerVal>
<valUnit>
<UOM type="length">
</UOM>
</valUnit>
</Band>
</covDim>
<trianInd>False</trianInd>
<radCalDatAv>False</radCalDatAv>
<camCalInAv>False</camCalInAv>
<filmDistInAv>False</filmDistInAv>
<lensDistInAv>False</lensDistInAv>
</ImgDesc>
</contInfo>
<mdDateSt Sync="TRUE">20250625</mdDateSt>
<mdContact>
<rpOrgName>Ayres Associates</rpOrgName>
<role>
<RoleCd value="006">
</RoleCd>
</role>
<rpCntInfo>
<cntAddress addressType="both">
<delPoint>5201 E. Terrace Dr., Suite 200</delPoint>
<city>Madison</city>
<adminArea>Wisconsin</adminArea>
<postCode>53718</postCode>
<country>US</country>
</cntAddress>
<cntPhone>
<voiceNum tddtty="">(608) 443-1200</voiceNum>
</cntPhone>
</rpCntInfo>
<displayName>Ayres Associates</displayName>
</mdContact>
<mdMaint>
<maintFreq>
<MaintFreqCd value="011">
</MaintFreqCd>
</maintFreq>
</mdMaint>
<dqInfo>
<report dimension="vertical" type="DQConcConsis">
<measDesc>Images were color corrected to match adjacent flight lines. The resulting imagery was tonally adjusted in terms of contrast and color to form a radiometrically consistent orthophoto mosaic.</measDesc>
</report>
<report dimension="" type="DQCompOm">
<measDesc>These data cover the entirety of the 2025 WROC Jefferson County program.</measDesc>
</report>
<dataLineage>
<prcStep>
<stepDesc>Ground control consisted of photo identifiable surveyed points. The imagery was collected using a Leica Geosystems DMC III sensor at 7.25 cm GSD. Image quality was verified during the post flight review phase. Factors considered during this review included, but were not limited to, the presence of cloud cover, contrails, light conditions and sun flare. A rigorous Aerotriangulation process was performed and supplemented by the photo ID survey points. The triangulated strips were rectified to a DEM created from LiDAR collected in 2019. The imagery was mosaicked using manual seamlines generation and tone/color balanced to a project-wide consistency. PLSS section RGBN tiles were extracted from the mosaic and each individual tile was reviewed for artifacts and anomalies and adjusted as part of quality control procedures. The images were reviewed for rectification problems such as bridge displacements and seamline issues caused by the underlying digital elevation model. When necessary, local corrections to the imagery were performed to minimize such effects.</stepDesc>
<stepDateTm>2025-04-10T00:00:00</stepDateTm>
</prcStep>
</dataLineage>
</dqInfo>
</metadata>
